BEGIN:VCALENDAR
VERSION:2.0
PRODID:-//The Duke At Rancho El Dorado Golf Course - ECPv6.15.18//NONSGML v1.0//EN
CALSCALE:GREGORIAN
METHOD:PUBLISH
X-WR-CALNAME:The Duke At Rancho El Dorado Golf Course
X-ORIGINAL-URL:https://www.thedukegolf.com
X-WR-CALDESC:Events for The Duke At Rancho El Dorado Golf Course
REFRESH-INTERVAL;VALUE=DURATION:PT1H
X-Robots-Tag:noindex
X-PUBLISHED-TTL:PT1H
BEGIN:VTIMEZONE
TZID:America/Phoenix
BEGIN:STANDARD
TZOFFSETFROM:-0700
TZOFFSETTO:-0700
TZNAME:MST
DTSTART:20220101T000000
END:STANDARD
END:VTIMEZONE
BEGIN:VEVENT
DTSTART;TZID=America/Phoenix:20231130T080000
DTEND;TZID=America/Phoenix:20231130T233000
DTSTAMP:20260419T060016
CREATED:20231017T173025Z
LAST-MODIFIED:20231017T181832Z
UID:10000066-1701331200-1701387000@www.thedukegolf.com
SUMMARY:Province Golf League Shotgun
DESCRIPTION:Private Event \nTee Times Before and After
URL:https://www.thedukegolf.com/event/province-golf-league-shotgun-2/2023-11-30/
END:VEVENT
END:VCALENDAR